BEGIN:VCALENDAR
VERSION:2.0
PRODID:-//Turbiini - ECPv6.7.0//NONSGML v1.0//EN
CALSCALE:GREGORIAN
METHOD:PUBLISH
X-ORIGINAL-URL:https://turbiini.net
X-WR-CALDESC:Tapahtumat Turbiini
REFRESH-INTERVAL;VALUE=DURATION:PT1H
X-Robots-Tag:noindex
X-PUBLISHED-TTL:PT1H
BEGIN:VTIMEZONE
TZID:UTC
BEGIN:STANDARD
TZOFFSETFROM:+0000
TZOFFSETTO:+0000
TZNAME:UTC
DTSTART:20260101T000000
END:STANDARD
END:VTIMEZONE
BEGIN:VEVENT
DTSTART;TZID=UTC:20260225T160000
DTEND;TZID=UTC:20260225T190000
DTSTAMP:20260421T100005
CREATED:20260223T062502Z
LAST-MODIFIED:20260223T062537Z
UID:10000017-1772035200-1772046000@turbiini.net
SUMMARY:Power of Networking
DESCRIPTION:Join us for an evening focused on strategic networking\, not as a buzzword\, but as a practical skill for entrepreneurs and innovators alike.\nThis event brings together participants from local university campus incubators\, creating a chance to connect with people working on ideas\, startups\, and projects across the city. \nThe programme combines a moderated panel discussion with experienced ecosystem builders and a hands-on working session. \nTogether\, we’ll explore why strategic networking accelerates business growth\, what effective networks look like in practice\, and how to design a personal networking strategy aligned with your goals. \nThe evening is designed to move beyond surface-level advice. Participants will reflect on their own position within the ecosystem\, identify meaningful connections\, and begin shaping an approach to networking they can actively put into practice. \nSnacks and refreshments will be provided. \nThe event is free\, and open to all interested interested in scaling entrepreneurship to a new level through strategic networking. Spaces are limited and registration is required. \nEvent Schedule: \n16.00 Doors open. Coffee & tea\, snacks served\n16.45 Welcome words & Introduction to strategic networking\, Aline de Santa Izabel\n17.00 The Power of Networking Panel: Tarun Sharma\, Maija Renko\, and Alaa Benkherouf. Moderated by Aline de Santa Izabel.\n17.50 Reflection: Networking by Aline de Santa Izabel\n18.00 Networking\n19.00 Event ends \nSign up here \nThe venue has robotic cameras that cover the whole event area. Please note that the audience might appear in the event recording. The event will be photographed and filmed\, event photos and videos are used for event communications. \nOrganized by Turbiini\, Metropolia University of Applied Sciences\, Aalto Creatives\, Aalto University\, Helsinki Incubators\, University of Helsinki\, and Business Helsinki.
URL:https://turbiini.net/event/power-of-networking/
LOCATION:Saastamoinen Foundation Stage | Marsio\, Otakaari 2\, Espoo\, Finland\, Otakaari 2\, Espoo\, 02150\, Finland
ATTACH;FMTTYPE=image/png:https://turbiini.net/wp-content/uploads/2026/02/Ala-2.png
END:VEVENT
END:VCALENDAR