BEGIN:VCALENDAR
VERSION:2.0
PRODID:-//Turbiini - ECPv6.7.0//NONSGML v1.0//EN
CALSCALE:GREGORIAN
METHOD:PUBLISH
X-ORIGINAL-URL:https://turbiini.net
X-WR-CALDESC:Tapahtumat Turbiini
REFRESH-INTERVAL;VALUE=DURATION:PT1H
X-Robots-Tag:noindex
X-PUBLISHED-TTL:PT1H
BEGIN:VTIMEZONE
TZID:UTC
BEGIN:STANDARD
TZOFFSETFROM:+0000
TZOFFSETTO:+0000
TZNAME:UTC
DTSTART:20250101T000000
END:STANDARD
END:VTIMEZONE
BEGIN:VEVENT
DTSTART;TZID=UTC:20251208T140000
DTEND;TZID=UTC:20251208T170000
DTSTAMP:20260420T094600
CREATED:20251127T112755Z
LAST-MODIFIED:20251203T093241Z
UID:10000016-1765202400-1765213200@turbiini.net
SUMMARY:Training: Introduction to Service Design
DESCRIPTION:Sign up by December 7thTraining on December 8th 14:00 – 17:00 EET \n \nWhat?\nService design is the application of the design thinking process to the design of services. Services are anything that help someone do something. This means that anyone who works at a university is a creator of services. People who work in any administrative position is creating services for staff\, students\, and/or external partners or stakeholders. Academic staff are designing courses that the students will take. They are supporting students to get their degrees. All of these are considered services by service design. \nTo be able to create these services in a sustainable (socially\, economically\, inclusively\, etc) and impactful manner\, understanding how to use service design is important. When designing any kind of service without the participation and knowledge of who the services are for\, means that services get created through guessing. Using one perspective (primarily your own)\, is not the way to make something that has wide applicability. This can easily lead to service failure which is costly in many ways. \nService design is also about fixing services that are not fit for purpose. Either through original design or the ever-changing environment in which they exist. Effective problem-solving is the central purpose of service design through the use of the design thinking process. \nLearning outcomes:\nParticipants will: \n\nbe able to articulate what service design is\, why it matters\, and how it applies to both administrative and academic roles.\nbe able to evaluate a current university service and pinpoint elements that contribute to service failure or inefficiency.\ndemonstrate how involving diverse users and stakeholders leads to more equitable\, effective\, and adaptable services.\nbe able to explain how the design thinking process enhances problem-solving by enabling deeper understanding of user needs and generating more effective service solutions.\n\nTopics:\n\nIntroduction to Design Thinking process\nWhy Service Design?\nThe importance of Customer Research\nHow to Ideate\nPrototyping and Testing Ideas\nBonus: How to assess services- using Lou Downs book “Good Services”*\n\nAudience:\n\nAcademic staff\nNon-Academic staff\n\nPre-course Actions:\n\nReadings sent by email\nBring to the course a service that struggles in your unit or a problem that you struggle with.\n\nTrainer:\nPamela Spokes \nPamela Spokes\, MBA Service Innovation & Design\, has extensive experience in higher education and entrepreneurial ecosystems and delivering service design education. She has led the development and delivery of multiple service design training programmes\, including MOOCs and innovation sprint-based courses\, making her deeply familiar with both the pedagogy and real-world application of service design. Pamela works in the Metropolia UAS Emerging Technologies and Entrepreneurship team. \n			\n				Registration
URL:https://turbiini.net/event/training-introduction-to-service-design/
LOCATION:Online\, HELSINKI\, 00920\, Finland
ATTACH;FMTTYPE=image/jpeg:https://turbiini.net/wp-content/uploads/2023/03/turbiini-18-1-scaled.jpg
END:VEVENT
END:VCALENDAR