BEGIN:VCALENDAR
VERSION:2.0
PRODID:-//Turbiini - ECPv6.7.0//NONSGML v1.0//EN
CALSCALE:GREGORIAN
METHOD:PUBLISH
X-WR-CALNAME:Turbiini
X-ORIGINAL-URL:https://turbiini.net
X-WR-CALDESC:Tapahtumat Turbiini
REFRESH-INTERVAL;VALUE=DURATION:PT1H
X-Robots-Tag:noindex
X-PUBLISHED-TTL:PT1H
BEGIN:VTIMEZONE
TZID:UTC
BEGIN:STANDARD
TZOFFSETFROM:+0000
TZOFFSETTO:+0000
TZNAME:UTC
DTSTART:20250101T000000
END:STANDARD
END:VTIMEZONE
BEGIN:VEVENT
DTSTART;TZID=UTC:20251022T120000
DTEND;TZID=UTC:20251022T160000
DTSTAMP:20260420T123132
CREATED:20250313T121041Z
LAST-MODIFIED:20250829T121851Z
UID:10000013-1761134400-1761148800@turbiini.net
SUMMARY:Turbiini All-Stars 2025
DESCRIPTION:Turbiini All-Stars – opiskelijayrittäjyyden juhla on täällä taas!\nKoe yrittäjyyden uusi aalto. Metropolian yrityshautomo Turbiini kutsuu sinut juhlimaan opiskelijayrittäjyyttä Turbiini All-Starsiin! Mistä puhutaan\, kun puhutaan opiskelijayrittäjyydestä? \nTurbiini All-Starsissa juhlistetaan opiskelijoidemme saavutuksia sekä tutustutaan yrittämisen tulevaisuuteen. \nViime vuoden lokakuussa ensimmäistä kertaa järjestetty tapahtuma ylitti odotukset: \n“Tapahtuma oli rohkeasti uudenlainen. Korkeaa tasoa rennolla\, hauskalla ja luovuutta herättävällä tavalla.”“Panostus näkyi – kannatti pitää iltapäivä vapaana!”“Laadukasta sisältöä\, hyvä flow\, upea tila ja ruokakin kohdallaan!” \nTurbiini All-Stars esittelee kuusi Turbiinin käynyttä opiskelijaa sekä heidän yrityksensä\, kun alumnit saapuvat lavalle pitchaamaan. \nPitchauksien lisäksi Suomen kysytyin valokuvaaja Janita Autio jakaa uratarinaansa. Miten Janita Autiosta tuli se Janita Autio? \nTapahtuman tiedot:\nMitä? Turbiini All-StarsMissä? Arabia-sali\, Arabian kampus\, MetropoliaMilloin? Keskiviikkona 22.10.2025 klo 12:00-16:00Kenelle? Tapahtuma on avoin kaikille yrittäjyydestä kiinnostuneille \nOhjelma:\n🔥Janita Autio\, valokuvaaja\, yrittäjä\, ilmiö. 🚀 Turbiini-alumnien pitchaukset\, kuusi opiskelijaa\, kuusi tarinaa.💡 Avajaisseremonia🇫🇮🇺🇸 Tapahtuma on kaksikielinen. Osa ohjelmasta on suomeksi\, osa englanniksi. \nOhjelma päivittyy. \nMiksi osallistua?\n🎭 Inspiroidu lavaohjelmasta.🍬 Nauti tarjoiluista. 💥 Koe show. \nTurbiinissa uskomme\, että yrittäjyys on yksi tapa rakentaa omannäköistä työelämää ja sitä saa tutkia rauhassa. \nEi business hustlausta – vaan aitoa puhetta yrittäjyydestä. \nIlmoittaudu nyt\, niin takaat\, että mahdut mukaan. \n\n\n\n  \n\n\n\n			\n				Ilmoittaudu mukaan ja varmista paikkasi\n			\n			\n				\n				\n				\n				\n			\n				\n				\n				\n				\n				\n				\n				\n				\n				\n				\n				Turbiini All-Stars – A Celebration of Student Entrepreneurship\nTurbiini All-Stars is back! Our one-of-a-kind event celebrating student entrepreneurship made its debut last year—and it exceeded all expectations: \n“Boldly different. High-quality content delivered in a relaxed\, fun\, and creatively inspiring way.”“The effort really showed—worth every minute of my afternoon!”“Great content\, smooth flow\, amazing venue\, and the food was on point!” \nThis year\, six Turbiini alumni return to the stage to pitch their businesses and share how their journey began. \nAs a special guest\, Janita Autio\, Finland’s most sought-after photographer\, joins us to tell her story.How did Janita become the Janita Autio? You’ll find out. \nForget the hustle clichés – this is real talk about entrepreneurship. \nAt Turbiini\, we believe entrepreneurship is one way to shape a career that reflects who you are. And you deserve the space to explore that freely. \nEvent Info\nWhat? Turbiini All-Stars – Student Entrepreneurship ShowcaseWhere? Arabia Hall\, Metropolia Arabia CampusWhen? Wednesday\, October 22\, 2025 | 12:00–16:00For whom? Open to everyone interested in entrepreneurship \nProgram Highlights\n🔥 Janita Autio\, Photographer\, entrepreneur\, phenomenon.🚀 Alumni pitches\, Six students\, six stories\, one stage.💡 Opening ceremony + more exciting content to be announced🇫🇮🇺🇸 The event is bilingual\, some sessions in Finnish\, some in English. \n Why Join?\n🎭 Get inspired by the stage program.🍬 Enjoy the refreshments.💥 Experience the show. \nSeats are limited – Secure yours now (by signing up)! \n			\n				Sign up and secure your seat
URL:https://turbiini.net/event/turbiini-all-stars-2025/
ATTACH;FMTTYPE=image/png:https://turbiini.net/wp-content/uploads/2025/03/Turbiini-All-Stars-2025.png
END:VEVENT
END:VCALENDAR